BEGIN:VCALENDAR
VERSION:2.0
PRODID:-//Aforpel - ECPv6.15.20//NONSGML v1.0//EN
CALSCALE:GREGORIAN
METHOD:PUBLISH
X-WR-CALNAME:Aforpel
X-ORIGINAL-URL:https://www.aforpel.org
X-WR-CALDESC:Évènements pour Aforpel
REFRESH-INTERVAL;VALUE=DURATION:PT1H
X-Robots-Tag:noindex
X-PUBLISHED-TTL:PT1H
BEGIN:VTIMEZONE
TZID:Europe/Paris
BEGIN:DAYLIGHT
TZOFFSETFROM:+0100
TZOFFSETTO:+0200
TZNAME:CEST
DTSTART:20230326T010000
END:DAYLIGHT
BEGIN:STANDARD
TZOFFSETFROM:+0200
TZOFFSETTO:+0100
TZNAME:CET
DTSTART:20231029T010000
END:STANDARD
BEGIN:DAYLIGHT
TZOFFSETFROM:+0100
TZOFFSETTO:+0200
TZNAME:CEST
DTSTART:20240331T010000
END:DAYLIGHT
BEGIN:STANDARD
TZOFFSETFROM:+0200
TZOFFSETTO:+0100
TZNAME:CET
DTSTART:20241027T010000
END:STANDARD
BEGIN:DAYLIGHT
TZOFFSETFROM:+0100
TZOFFSETTO:+0200
TZNAME:CEST
DTSTART:20250330T010000
END:DAYLIGHT
BEGIN:STANDARD
TZOFFSETFROM:+0200
TZOFFSETTO:+0100
TZNAME:CET
DTSTART:20251026T010000
END:STANDARD
END:VTIMEZONE
BEGIN:VEVENT
DTSTART;TZID=Europe/Paris:20240601T080000
DTEND;TZID=Europe/Paris:20240601T170000
DTSTAMP:20260426T040806
CREATED:20240601T172204Z
LAST-MODIFIED:20240601T172204Z
UID:4459-1717228800-1717261200@www.aforpel.org
SUMMARY:Comment prévenir\, gérer les crises de colère d’une personne borderline?
DESCRIPTION:
URL:https://www.aforpel.org/event/comment-prevenir-gerer-les-crises-de-colere-dune-personne-borderline/
END:VEVENT
END:VCALENDAR