BEGIN:VCALENDAR
VERSION:2.0
PRODID:-//Aforpel - ECPv6.15.20//NONSGML v1.0//EN
CALSCALE:GREGORIAN
METHOD:PUBLISH
X-ORIGINAL-URL:https://www.aforpel.org
X-WR-CALDESC:Évènements pour Aforpel
REFRESH-INTERVAL;VALUE=DURATION:PT1H
X-Robots-Tag:noindex
X-PUBLISHED-TTL:PT1H
BEGIN:VTIMEZONE
TZID:Europe/Paris
BEGIN:DAYLIGHT
TZOFFSETFROM:+0100
TZOFFSETTO:+0200
TZNAME:CEST
DTSTART:20230326T010000
END:DAYLIGHT
BEGIN:STANDARD
TZOFFSETFROM:+0200
TZOFFSETTO:+0100
TZNAME:CET
DTSTART:20231029T010000
END:STANDARD
BEGIN:DAYLIGHT
TZOFFSETFROM:+0100
TZOFFSETTO:+0200
TZNAME:CEST
DTSTART:20240331T010000
END:DAYLIGHT
BEGIN:STANDARD
TZOFFSETFROM:+0200
TZOFFSETTO:+0100
TZNAME:CET
DTSTART:20241027T010000
END:STANDARD
BEGIN:DAYLIGHT
TZOFFSETFROM:+0100
TZOFFSETTO:+0200
TZNAME:CEST
DTSTART:20250330T010000
END:DAYLIGHT
BEGIN:STANDARD
TZOFFSETFROM:+0200
TZOFFSETTO:+0100
TZNAME:CET
DTSTART:20251026T010000
END:STANDARD
END:VTIMEZONE
BEGIN:VEVENT
DTSTART;TZID=Europe/Paris:20240625T193000
DTEND;TZID=Europe/Paris:20240625T210000
DTSTAMP:20260426T040908
CREATED:20240307T084100Z
LAST-MODIFIED:20240611T163415Z
UID:4316-1719343800-1719349200@www.aforpel.org
SUMMARY:Comment prévenir\, gérer les crises de colère d'une personne borderline?
DESCRIPTION:Vivre au quotidien avec une personne borderline\, qu’il s’agisse d’un enfant\, d’un ado ou d’un conjoint\, peut parfois devenir éprouvant pour les proches. \nComment faire pour que les colères\, les menaces\, le chantage au suicide\, les insultes… n’empoisonnent plus votre vie et celle de vos proches ?\nComment gérer vos émotions et les siennes ? Peut on anticiper et prévenir la crise de colère? Quelles attitudes adopter\, quels mots utiliser pour faire face puis rétablir une situation qui permettra à votre famille\, à votre couple de retrouver l’espace d’écoute et de dialogue qui permettra d’évoluer vers une situation apaisée pour tous. \nAu cours de cette soirée\, chaque participant pourra librement partager son vécu et son ressenti avec le groupe. En reprenant les situations qui seront évoquées\, les modérateurs\, thérapeutes spécialistes du trouble borderline\, proposeront des comportement alternatifs adaptés à chaque cas et susceptibles de participer à une évolution positive des situations évoquées. \nLe nombre de participants est limité à 15 personnes\, il est prudent de vous inscrire dès maintenant. \nNOTA: Les adhérents de l’Aforpel bénéficient d’un tarif préférentiel de 50€ pour assister à cette visioconférence. Si vous n’avez pas reçu le code de promotion écrivez nous dans la rubrique contact. Si vous souhaitez adhérer\, cliquer sur le lien suivant adhésion. \n  \n	\n		\n		\n			\n		\n		\n			Groupe de psychoéducation - 70€\n		\n		\n		\n		\n		Inscrivez-vous à la visio-conférence en cliquant sur le bouton ci-dessous pour effectuer votre règlement en ligne.  \nLorsque votre inscription sera enregistrée\, vous recevrez par mail un lien vous permettant d'accéder à la visio-conférence au jour et à l'heure fixés. \n\n		\n		\n		70\,00€  \n		\n		\n		\n		Processing ... Paiement par CBStripe Payments nécessite que Javascript soit pris en charge par le navigateur pour fonctionner.
URL:https://www.aforpel.org/event/cohabiter-avec-une-personne-borderline-cest-possible/
LOCATION:En visio conférence
CATEGORIES:Groupe de paroles pour les proches de personnes borderline (parents ou conjoints),Tous publics
ORGANIZER;CN="Pierre Nantas":MAILTO:pn.psycoach@gmail.com
END:VEVENT
END:VCALENDAR