BEGIN:VCALENDAR
VERSION:2.0
PRODID:-//Aforpel - ECPv6.15.20//NONSGML v1.0//EN
CALSCALE:GREGORIAN
METHOD:PUBLISH
X-WR-CALNAME:Aforpel
X-ORIGINAL-URL:https://www.aforpel.org
X-WR-CALDESC:Évènements pour Aforpel
REFRESH-INTERVAL;VALUE=DURATION:PT1H
X-Robots-Tag:noindex
X-PUBLISHED-TTL:PT1H
BEGIN:VTIMEZONE
TZID:Europe/Paris
BEGIN:DAYLIGHT
TZOFFSETFROM:+0100
TZOFFSETTO:+0200
TZNAME:CEST
DTSTART:20230326T010000
END:DAYLIGHT
BEGIN:STANDARD
TZOFFSETFROM:+0200
TZOFFSETTO:+0100
TZNAME:CET
DTSTART:20231029T010000
END:STANDARD
BEGIN:DAYLIGHT
TZOFFSETFROM:+0100
TZOFFSETTO:+0200
TZNAME:CEST
DTSTART:20240331T010000
END:DAYLIGHT
BEGIN:STANDARD
TZOFFSETFROM:+0200
TZOFFSETTO:+0100
TZNAME:CET
DTSTART:20241027T010000
END:STANDARD
BEGIN:DAYLIGHT
TZOFFSETFROM:+0100
TZOFFSETTO:+0200
TZNAME:CEST
DTSTART:20250330T010000
END:DAYLIGHT
BEGIN:STANDARD
TZOFFSETFROM:+0200
TZOFFSETTO:+0100
TZNAME:CET
DTSTART:20251026T010000
END:STANDARD
END:VTIMEZONE
BEGIN:VEVENT
DTSTART;TZID=Europe/Paris:20240928T100000
DTEND;TZID=Europe/Paris:20240928T120000
DTSTAMP:20260425T234459
CREATED:20240925T075525Z
LAST-MODIFIED:20240925T075906Z
UID:4767-1727517600-1727524800@www.aforpel.org
SUMMARY:Groupe de parole borderline anonymes à Nantes
DESCRIPTION:le SAMEDI 28 septembre de 10h à 12h \nAdresse: Théâtre du Sphinx\n9 rue MONTEIL\n44000 NANTES\n(Quartier Madeleine/Champs de Mars\, près du lieu Unique et de la gare\nSud) \nCe groupe d’échange\, de partage et de soutien est uniquement réservés\naux personnes souffrant de ce trouble (diagnotisquées ou en demande\nd’information ).\nCe n’est pas un groupe de thérapie. \nLe conditions financières sont :\n10 EUROS/ PERSONNE/ SESSION \nMerci de me préciser si vous serez là  pour que je puisse\nm’organiser et adapter la bonne salle d’accueil pour nous (par mail ou\nsms) \nChristelle GUERY:\nchristeleguery@theatredusphinx.com \n 
URL:https://www.aforpel.org/event/groupe-de-parole-borderline-anonymes-a-nantes/
LOCATION:Théâtre du Sphynx à Nantes\, 9 rue Monteil\, Nantes\, 44000\, France
CATEGORIES:Borderline Anonymes,Groupe de parole borderline
ATTACH;FMTTYPE=image/jpeg:https://www.aforpel.org/wp-content/uploads/2019/10/Photo-de-Christelle-Guery.jpg
END:VEVENT
END:VCALENDAR