BEGIN:VCALENDAR
VERSION:2.0
PRODID:-//Aforpel - ECPv6.15.20//NONSGML v1.0//EN
CALSCALE:GREGORIAN
METHOD:PUBLISH
X-ORIGINAL-URL:https://www.aforpel.org
X-WR-CALDESC:Évènements pour Aforpel
REFRESH-INTERVAL;VALUE=DURATION:PT1H
X-Robots-Tag:noindex
X-PUBLISHED-TTL:PT1H
BEGIN:VTIMEZONE
TZID:Europe/Paris
BEGIN:DAYLIGHT
TZOFFSETFROM:+0100
TZOFFSETTO:+0200
TZNAME:CEST
DTSTART:20240331T010000
END:DAYLIGHT
BEGIN:STANDARD
TZOFFSETFROM:+0200
TZOFFSETTO:+0100
TZNAME:CET
DTSTART:20241027T010000
END:STANDARD
BEGIN:DAYLIGHT
TZOFFSETFROM:+0100
TZOFFSETTO:+0200
TZNAME:CEST
DTSTART:20250330T010000
END:DAYLIGHT
BEGIN:STANDARD
TZOFFSETFROM:+0200
TZOFFSETTO:+0100
TZNAME:CET
DTSTART:20251026T010000
END:STANDARD
BEGIN:DAYLIGHT
TZOFFSETFROM:+0100
TZOFFSETTO:+0200
TZNAME:CEST
DTSTART:20260329T010000
END:DAYLIGHT
BEGIN:STANDARD
TZOFFSETFROM:+0200
TZOFFSETTO:+0100
TZNAME:CET
DTSTART:20261025T010000
END:STANDARD
END:VTIMEZONE
BEGIN:VEVENT
DTSTART;TZID=Europe/Paris:20250310T190000
DTEND;TZID=Europe/Paris:20250310T210000
DTSTAMP:20260425T134958
CREATED:20250110T172516Z
LAST-MODIFIED:20250304T144601Z
UID:5046-1741633200-1741640400@www.aforpel.org
SUMMARY:Le sentiment chronique de vide\, élément central du trouble de la personnalité limite
DESCRIPTION:Dans le manuel Diagnostique et Statistique des Troubles Mentaux qui répertorie les différentes pathologies mentales le septième critère définissant la personnalité borderline est le sentiment chronique de vide. \nMais qu’est-ce que ce sentiment exactement ? \nTrès mal connu dans la littérature scientifique\, peu étudié\, ce sentiment pourrait être pourtant l’élément central du trouble de la personnalité limite. Une étude menée pendant deux ans auprès de personnes faisant l’expérience de ce sentiment qui nous a permis d’en comprendre la nature\, ses répercussions dans la vie de tous les jours mais aussi son origine. \nLe sentiment de vide\, n’a rien à voir avec une absence de sensations ou de sentiments mais au contraire s’accompagne souvent d’une douleur psychique extrême. Il trouve son origine dans un contexte familial particulier au sein duquel la personne a souvent dû renoncer à elle-même. \nLe sentiment de vide n’est pas à confondre avec l’ennui\, peut créer une sensation d’absence de consistance interne et de se ressentir physiquement. Il est très lié aux états dissociatifs\, au fait de se couper de ses émotions ou de se sentir étranger à soi-même. \nIl semble émerger dans un contexte familial propice aux troubles de l’attachement où l’on fait peu cas des émotions de l’enfant qui peine à exprimer ce qu’il vit et qui finit par ne plus savoir ce qu’il ressent vraiment. La sensation d’absence de place et d’importance qui peut être le fait du narcissisme d’un parent est aussi en lien avec ce sentiment tout comme l’absence de respect des limites. \nUne fois installé durablement\, tous les moyens sont alors bons à prendre pour combler ce sentiment\, et enfin ressentir ! :  actes impulsifs\, nourritures\, jeux vidéos\, douleurs physiques\, rencontres affectives\, prises de risques etc. Mais ces expédients ne comblent que de courts instants. \nContrairement à ce que l’on pourrait croire\, avoir un sentiment de vide n’est pas une fatalité\, mais celui-ci ne se comble que par des potentialités internes. La question « qui suis-je ? » est alors centrale dans une thérapie ayant pour but de s’en départir. Une thérapie ayant comme fil rouge la connaissance de soi sous-tend toutes les autres telle la thérapie comportementale dialectique\, la pleine conscience ou la thérapie d’acceptation et d’engagement (ACT)  qui sont des outils utiles pour ne plus souffrir d’un trouble état limite et de ses conséquences dans la vie de tous les jours. \nSe connaître est le premier pas pour retrouver une estime de soi haute\, stable et saine\, ce qui fait souvent douloureusement défaut aux personnes faisant l’expérience de ce sentiment. \nAu cours de la visio-conférence\, Laure Compagnon\, psychologue clinicienne\, abordera en détail le sentiment de vide chronique en présentant ses caractéristiques pathologiques\, ses causes\, ses effets et les moyens ou les sentiers par lesquelles cheminer pour le combler. \nA la suite de cette conférence vous saurez reconnaître ce vide chronique\, le comprendre et vous disposerez de quelques pistes pour mieux l’appréhender et y faire face. \n	\n		\n		\n			\n		\n		\n			Le sentiment chronique de vide\, élément central du TPL - 70€\n		\n		\n		\n		\n		Inscrivez-vous à la visio-conférence en cliquant sur le bouton ci-dessous pour effectuer votre règlement en ligne.  \nLorsque votre inscription sera enregistrée\, vous recevrez par mail un lien vous permettant d'accéder à la visio-conférence au jour et à l'heure fixés. \n\n		\n		\n		70\,00€  \n		\n		\n		\n		Processing ... Paiement par CBStripe Payments nécessite que Javascript soit pris en charge par le navigateur pour fonctionner.
URL:https://www.aforpel.org/event/le-sentiment-chronique-de-vide-trouble-de-la-personnalite-limite/
LOCATION:Visio conférence
ORGANIZER;CN="Laure Compagnon":MAILTO:laure.compagnon@yahoo.fr
END:VEVENT
END:VCALENDAR