BEGIN:VCALENDAR
VERSION:2.0
PRODID:-//Aforpel - ECPv6.15.20//NONSGML v1.0//EN
CALSCALE:GREGORIAN
METHOD:PUBLISH
X-WR-CALNAME:Aforpel
X-ORIGINAL-URL:https://www.aforpel.org
X-WR-CALDESC:Évènements pour Aforpel
REFRESH-INTERVAL;VALUE=DURATION:PT1H
X-Robots-Tag:noindex
X-PUBLISHED-TTL:PT1H
BEGIN:VTIMEZONE
TZID:Europe/Paris
BEGIN:DAYLIGHT
TZOFFSETFROM:+0100
TZOFFSETTO:+0200
TZNAME:CEST
DTSTART:20240331T010000
END:DAYLIGHT
BEGIN:STANDARD
TZOFFSETFROM:+0200
TZOFFSETTO:+0100
TZNAME:CET
DTSTART:20241027T010000
END:STANDARD
BEGIN:DAYLIGHT
TZOFFSETFROM:+0100
TZOFFSETTO:+0200
TZNAME:CEST
DTSTART:20250330T010000
END:DAYLIGHT
BEGIN:STANDARD
TZOFFSETFROM:+0200
TZOFFSETTO:+0100
TZNAME:CET
DTSTART:20251026T010000
END:STANDARD
BEGIN:DAYLIGHT
TZOFFSETFROM:+0100
TZOFFSETTO:+0200
TZNAME:CEST
DTSTART:20260329T010000
END:DAYLIGHT
BEGIN:STANDARD
TZOFFSETFROM:+0200
TZOFFSETTO:+0100
TZNAME:CET
DTSTART:20261025T010000
END:STANDARD
END:VTIMEZONE
BEGIN:VEVENT
DTSTART;TZID=Europe/Paris:20250322T100000
DTEND;TZID=Europe/Paris:20250322T120000
DTSTAMP:20260425T134836
CREATED:20250317T165139Z
LAST-MODIFIED:20250322T100302Z
UID:5349-1742637600-1742644800@www.aforpel.org
SUMMARY:Groupe de parole borderline à Nantes
DESCRIPTION:Bonjour à toutes et à tous\, \nprochain Groupe de Parole Borderline : \nle SAMEDI 22 MARS 2025 de 10h à 12h \nAdresse: Théâtre du Sphinx\n9 rue MONTEIL\n44000 NANTES\n(Quartier Madeleine/Champs de Mars\, près du lieu Unique et de la gare Sud) \nCe groupe d’échange\, de partage et de soutien est uniquement réservés aux personnes souffrant de ce trouble (diagnotisquées ou en demande d’information ).\nCe n’est pas un groupe de thérapie. \nLe conditions financières sont :\n10 EUROS/ PERSONNE/ SESSION \nMerci de me préciser si vous serez là  pour que je puisse m’organiser et adapter la bonne salle d’accueil pour nous (par mail ou sms) \nJ’espère que vous allez bien et je vous souhaite une très bonne journée d’ici là \nbien à vous\, \nChristèle Guéry\,\nPsycho-praticienne (Gestalt) \,\nspécialisée dans le trouble borderline et la régulation émotionnelle \nCabinet :\n28 rue de Bouillé\,\n44000 Nantes \net animatrice du groupe de parole Borderline en association avec\nL’AFORPEL\n06 84 49 86 92
URL:https://www.aforpel.org/event/groupe-de-parole-borderline-a-nantes-2/
LOCATION:Théâtre du Sphynx à Nantes\, 9 rue Monteil\, Nantes\, 44000\, France
END:VEVENT
END:VCALENDAR