BEGIN:VCALENDAR
VERSION:2.0
PRODID:-//Aforpel - ECPv6.15.20//NONSGML v1.0//EN
CALSCALE:GREGORIAN
METHOD:PUBLISH
X-ORIGINAL-URL:https://www.aforpel.org
X-WR-CALDESC:Évènements pour Aforpel
REFRESH-INTERVAL;VALUE=DURATION:PT1H
X-Robots-Tag:noindex
X-PUBLISHED-TTL:PT1H
BEGIN:VTIMEZONE
TZID:Europe/Paris
BEGIN:DAYLIGHT
TZOFFSETFROM:+0100
TZOFFSETTO:+0200
TZNAME:CEST
DTSTART:20240331T010000
END:DAYLIGHT
BEGIN:STANDARD
TZOFFSETFROM:+0200
TZOFFSETTO:+0100
TZNAME:CET
DTSTART:20241027T010000
END:STANDARD
BEGIN:DAYLIGHT
TZOFFSETFROM:+0100
TZOFFSETTO:+0200
TZNAME:CEST
DTSTART:20250330T010000
END:DAYLIGHT
BEGIN:STANDARD
TZOFFSETFROM:+0200
TZOFFSETTO:+0100
TZNAME:CET
DTSTART:20251026T010000
END:STANDARD
BEGIN:DAYLIGHT
TZOFFSETFROM:+0100
TZOFFSETTO:+0200
TZNAME:CEST
DTSTART:20260329T010000
END:DAYLIGHT
BEGIN:STANDARD
TZOFFSETFROM:+0200
TZOFFSETTO:+0100
TZNAME:CET
DTSTART:20261025T010000
END:STANDARD
END:VTIMEZONE
BEGIN:VEVENT
DTSTART;TZID=Europe/Paris:20250408T180000
DTEND;TZID=Europe/Paris:20250408T200000
DTSTAMP:20260425T121820
CREATED:20250308T152558Z
LAST-MODIFIED:20250401T144708Z
UID:5141-1744135200-1744142400@www.aforpel.org
SUMMARY:La carence affective : la porte ouverte aux pervers narcissiques
DESCRIPTION:La carence affective est un terrain propice à la manipulation émotionnelle\, notamment par des personnalités toxiques\, comme les pervers narcissiques. Lorsqu’une personne a souffert d’un manque d’amour\, de reconnaissance ou de validation dans son passé (enfance\, relations amoureuses\, etc.)\, elle peut développer des failles émotionnelles qui la rendent plus vulnérable à des relations destructrices. Qu’est ce que la manipulation ? c’est induire l’autre à accomplir des actes qui vont à son propre avantage. \nSi les petites manipulations ordinaires font partie de la vie quotidienne du couple\, le pervers narcissique\, lui\, séduit pour mieux agir. Il donne l’impression de tout faire pour l’autre afin de mieux le détruire et possède l’art de renverser la situation en se présentant comme une victime. \nPour installer son emprise\, le pervers narcissique utilise et met en place un certain nombre de techniques manipulatoires. \nLa carence affective est une faille émotionnelle qui peut attirer des manipulateurs toxiques comme les pervers narcissiques. Comprendre ses propres blessures et\napprendre à se reconstruire permet d’éviter ces pièges et de construire des relations saines et équilibrées. \nAu cours de la visio-conférence\, Aude Van den brule\, présentera en détail avec les participants (les personnes borderline et leur proches) le processus d’emprise sur une\npersonne en carence affective\, les liens qu’utilise le PN pour assujettir ses victimes elle-même « complice »\, malgré elle\, de part leur fragilité et vulnérabilité. \nNous verrons ensemble les possibilités de se reconstruire\, de guérir ses blessures affectives et d’apprendre à nouer des relations saines et bienveillantes. \nLa clé est de reprendre confiance en soi\, de poser des limites et de cultiver l’amour de soi avant de chercher l’amour chez l’autre. Un amour sain ne se quémande pas\, il se partage dans le respect et l’équilibre. \nÀ la fin de cette conférence vous saurez reconnaître les différents mécanismes qu’utilise le pervers narcissique\, les comprendre pour mieux les appréhender et y faire face. Vous connaitrez également les solutions psychothérapeutiques les mieux adaptées pour vous en écarter. \n	\n		\n		\n			\n		\n		\n			La carence affective : la porte ouverte aux pervers narcissiques\n		\n		\n		\n		\n		Pour vous inscrire effectuez votre règlement en cliquant sur le bouton ci-dessous. \nLe tarif adhérent pour cette visioconférence est de 35€. Pour en bénéficier vous devez saisir le code de promotion dans le champ indiqué puis sur "appliquer". \nLe formulaire d'adhésion est disponible à cette page. \n\n		\n		\n		70\,00€  \n		\n		\n		\n		Processing ... Paiement par CBStripe Payments nécessite que Javascript soit pris en charge par le navigateur pour fonctionner.\n		\n	\n	\n 
URL:https://www.aforpel.org/event/la-carence-affective-la-porte-ouverte-aux-pervers-narcissiques/
LOCATION:Visio conférence
ORGANIZER;CN="Aude Van Den Brule":MAILTO:aude.vdbrule@gmail.com
END:VEVENT
END:VCALENDAR