BEGIN:VCALENDAR
VERSION:2.0
PRODID:-//Aforpel - ECPv6.15.20//NONSGML v1.0//EN
CALSCALE:GREGORIAN
METHOD:PUBLISH
X-ORIGINAL-URL:https://www.aforpel.org
X-WR-CALDESC:Évènements pour Aforpel
REFRESH-INTERVAL;VALUE=DURATION:PT1H
X-Robots-Tag:noindex
X-PUBLISHED-TTL:PT1H
BEGIN:VTIMEZONE
TZID:Europe/Paris
BEGIN:DAYLIGHT
TZOFFSETFROM:+0100
TZOFFSETTO:+0200
TZNAME:CEST
DTSTART:20240331T010000
END:DAYLIGHT
BEGIN:STANDARD
TZOFFSETFROM:+0200
TZOFFSETTO:+0100
TZNAME:CET
DTSTART:20241027T010000
END:STANDARD
BEGIN:DAYLIGHT
TZOFFSETFROM:+0100
TZOFFSETTO:+0200
TZNAME:CEST
DTSTART:20250330T010000
END:DAYLIGHT
BEGIN:STANDARD
TZOFFSETFROM:+0200
TZOFFSETTO:+0100
TZNAME:CET
DTSTART:20251026T010000
END:STANDARD
BEGIN:DAYLIGHT
TZOFFSETFROM:+0100
TZOFFSETTO:+0200
TZNAME:CEST
DTSTART:20260329T010000
END:DAYLIGHT
BEGIN:STANDARD
TZOFFSETFROM:+0200
TZOFFSETTO:+0100
TZNAME:CET
DTSTART:20261025T010000
END:STANDARD
END:VTIMEZONE
BEGIN:VEVENT
DTSTART;TZID=Europe/Paris:20250425T200000
DTEND;TZID=Europe/Paris:20250425T213000
DTSTAMP:20260425T121820
CREATED:20250407T135501Z
LAST-MODIFIED:20250425T081746Z
UID:5197-1745611200-1745616600@www.aforpel.org
SUMMARY:9 symptômes qui caractérisent le TPL
DESCRIPTION:L’origine du trouble borderline selon le DSMV : 9 symptômes soutenus par la peur et la frustration\n3eme session du cycle de formation des pairs aidants. \nLe trouble de la personnalité borderline (TPB) est caractérisé par une instabilité émotionnelle\, des relations interpersonnelles tumultueuses\, une image de soi\ninstable et d’autres symptômes. Parmi les symptômes principaux\, on trouve l’intensité des émotions et des comportements qui peuvent être influencés par la peur. \nCette émotion joue un rôle central dans la manifestation des symptômes du trouble borderline. Elle influence les relations\, l’identité et la régulation émotionnelle\,\ncontribuant à l’instabilité et à la détresse caractéristiques de ce trouble. \nAu cours de cette soirée\, Pierre Nantas évoquera quelles sont les formes de peurs et les frustrations responsables des 9 symptômes. \n\n	\n		\n		\n			\n		\n		\n			9 symptômes soutenus par la peur et la frustration qui caractérisent le TPL\n		\n		\n		\n		\n		Pour participer à cette visioconférence effectuez votre règlement en cliquant sur le bouton ci-dessous \n\n		\n		\n		70\,00€  \n		\n		\n		\n		Processing ... Paiement par CBStripe Payments nécessite que Javascript soit pris en charge par le navigateur pour fonctionner.
URL:https://www.aforpel.org/event/9-symptomes-soutenus-par-la-peur-et-la-frustration-qui-caracterisent-le-tpl/
LOCATION:Visio conférence
ORGANIZER;CN="Pierre Nantas":MAILTO:pn.psycoach@gmail.com
END:VEVENT
END:VCALENDAR