BEGIN:VCALENDAR
VERSION:2.0
PRODID:-//Aforpel - ECPv6.15.20//NONSGML v1.0//EN
CALSCALE:GREGORIAN
METHOD:PUBLISH
X-ORIGINAL-URL:https://www.aforpel.org
X-WR-CALDESC:Évènements pour Aforpel
REFRESH-INTERVAL;VALUE=DURATION:PT1H
X-Robots-Tag:noindex
X-PUBLISHED-TTL:PT1H
BEGIN:VTIMEZONE
TZID:Europe/Paris
BEGIN:DAYLIGHT
TZOFFSETFROM:+0100
TZOFFSETTO:+0200
TZNAME:CEST
DTSTART:20240331T010000
END:DAYLIGHT
BEGIN:STANDARD
TZOFFSETFROM:+0200
TZOFFSETTO:+0100
TZNAME:CET
DTSTART:20241027T010000
END:STANDARD
BEGIN:DAYLIGHT
TZOFFSETFROM:+0100
TZOFFSETTO:+0200
TZNAME:CEST
DTSTART:20250330T010000
END:DAYLIGHT
BEGIN:STANDARD
TZOFFSETFROM:+0200
TZOFFSETTO:+0100
TZNAME:CET
DTSTART:20251026T010000
END:STANDARD
BEGIN:DAYLIGHT
TZOFFSETFROM:+0100
TZOFFSETTO:+0200
TZNAME:CEST
DTSTART:20260329T010000
END:DAYLIGHT
BEGIN:STANDARD
TZOFFSETFROM:+0200
TZOFFSETTO:+0100
TZNAME:CET
DTSTART:20261025T010000
END:STANDARD
END:VTIMEZONE
BEGIN:VEVENT
DTSTART;TZID=Europe/Paris:20251009T183000
DTEND;TZID=Europe/Paris:20251009T200000
DTSTAMP:20260425T030119
CREATED:20250224T145207Z
LAST-MODIFIED:20250929T081610Z
UID:5143-1760034600-1760040000@www.aforpel.org
SUMMARY:Le syndrome d’abandon dans le trouble borderline
DESCRIPTION:Le syndrome d’abandon est une peur intense et irrationnelle d’être abandonné(e) ou rejeté(e)\, qui peut provoquer de l’anxiété\, de la dépendance affective et des comportements impulsifs. \nChez les personnes qui souffrent du trouble borderline\, cette peur de l’abandon est exacerbée et peut provoquer des réactions émotionnelles extrêmes. Elle constitue un des symptômes centraux de la pathologie. \nLe syndrome abandonnique est souvent lié à une carence affective précoce\, qui\, elle-même\, découle de troubles de l’attachement. Lorsqu’un enfant ne reçoit pas suffisamment d’amour\, de sécurité et de constance émotionnelle\, il développe un attachement insécure (anxieux ou évitant) qui peut entraîner\, à l’âge adulte\, une peur excessive d’être abandonné(e). \nCette peur se manifeste par des comportements de dépendance affective\, de jalousie\, d’angoisse ou de rejet des autres par anticipation. Elle est également à l’origine de nombreuses addictions (anorexie\, boulimie\, cannabis\, alcool en particulier…) \nCe schéma peut être particulièrement intense chez les personnes souffrant de trouble borderline\, où l’abandon est vécu comme une menace existentielle. \nAu cours de la visioconférence\, Aude Van den brule\, présentera en détail le syndrome de l’abandon et les problématiques qui en découlent. Vous connaîtrez ses différents corollaires tels que : les difficultés relationnelles\, la méfiance excessive\, l’instabilité des relations\, l’anxiété\, etc. \nVous envisagerez également la gestion des émotions qui peuvent être exprimées de manière démesurée (colère\, tristesse…). \nÀ l’issue de cette conférence\, vous saurez reconnaître les différentes blessures de l’abandon et les comprendre pour mieux les appréhender. Vous connaîtrez également les solutions psychothérapeutiques les mieux adaptées pour s’en détacher. \n	\n		\n		\n			\n		\n		\n			Inscription à la visioconférence - Le syndrome d’abandon dans le trouble borderline\n		\n		\n		\n		\n		Pour vous inscrire effectuez votre règlement en cliquant sur le bouton ci-dessous. \nLe tarif adhérent pour cette visioconférence est de 35€. Pour en bénéficier vous devez saisir le code de promotion dans le champ indiqué puis sur "appliquer". \nLe formulaire d'adhésion est disponible à cette page. \n\n		\n		\n		50\,00€  \n		\n		\n		\n		Processing ... Paiement par CBStripe Payments nécessite que Javascript soit pris en charge par le navigateur pour fonctionner.
URL:https://www.aforpel.org/event/le-syndrome-dabandon-dans-le-trouble-borderline/
LOCATION:Visio conférence
ORGANIZER;CN="Aude Van Den Brule":MAILTO:aude.vdbrule@gmail.com
END:VEVENT
END:VCALENDAR