BEGIN:VCALENDAR
VERSION:2.0
PRODID:-//Aforpel - ECPv6.15.20//NONSGML v1.0//EN
CALSCALE:GREGORIAN
METHOD:PUBLISH
X-WR-CALNAME:Aforpel
X-ORIGINAL-URL:https://www.aforpel.org
X-WR-CALDESC:Évènements pour Aforpel
REFRESH-INTERVAL;VALUE=DURATION:PT1H
X-Robots-Tag:noindex
X-PUBLISHED-TTL:PT1H
BEGIN:VTIMEZONE
TZID:Europe/Paris
BEGIN:DAYLIGHT
TZOFFSETFROM:+0100
TZOFFSETTO:+0200
TZNAME:CEST
DTSTART:20240331T010000
END:DAYLIGHT
BEGIN:STANDARD
TZOFFSETFROM:+0200
TZOFFSETTO:+0100
TZNAME:CET
DTSTART:20241027T010000
END:STANDARD
BEGIN:DAYLIGHT
TZOFFSETFROM:+0100
TZOFFSETTO:+0200
TZNAME:CEST
DTSTART:20250330T010000
END:DAYLIGHT
BEGIN:STANDARD
TZOFFSETFROM:+0200
TZOFFSETTO:+0100
TZNAME:CET
DTSTART:20251026T010000
END:STANDARD
BEGIN:DAYLIGHT
TZOFFSETFROM:+0100
TZOFFSETTO:+0200
TZNAME:CEST
DTSTART:20260329T010000
END:DAYLIGHT
BEGIN:STANDARD
TZOFFSETFROM:+0200
TZOFFSETTO:+0100
TZNAME:CET
DTSTART:20261025T010000
END:STANDARD
END:VTIMEZONE
BEGIN:VEVENT
DTSTART;TZID=Europe/Paris:20250626T200000
DTEND;TZID=Europe/Paris:20250626T220000
DTSTAMP:20260425T135237
CREATED:20250509T153844Z
LAST-MODIFIED:20250621T152018Z
UID:5504-1750968000-1750975200@www.aforpel.org
SUMMARY:Les causes des 9 symptômes du trouble de la personnalité borderline.
DESCRIPTION:Au cours de cette soirée\, Pierre Nantas\, spécialiste du trouble de la personnalité borderline évoquera les principales causes des 9 symptômes de ce trouble. En faisant référence à l’histoire de vie de leurs proches\, les participants seront capables d’expliquer l’origine des crises qu’ils affrontent et pourront envisager les comportements à privilégier pour rétablir une relation équilibrée. \n  \n  \n  \n  \n  \n  \n  \n	\n		\n		\n			\n		\n		\n			Les causes des 9 symptômes du trouble de la personnalité borderline.\n		\n		\n		\n		\n		Pour participer à cette visioconférence effectuez votre règlement en cliquant sur le bouton ci-dessous \n\n		\n		\n		50\,00€  \n		\n		\n		\n		Processing ... Paiement par CBStripe Payments nécessite que Javascript soit pris en charge par le navigateur pour fonctionner.
URL:https://www.aforpel.org/event/les-causes-des-9-symptomes-du-trouble-borderline/
LOCATION:Vissioconférence
CATEGORIES:Etudiants en master de psychologie,Groupe de paroles pour les proches de personnes borderline (parents ou conjoints),Groupes de psychoéducation pour les proches de personnes borderline,Pour les personnes qui se reconnaissent dans le trouble borderline,Tout public
ORGANIZER;CN="Pierre Nantas":MAILTO:pn.psycoach@gmail.com
END:VEVENT
END:VCALENDAR