BEGIN:VCALENDAR
VERSION:2.0
PRODID:-//Aforpel - ECPv6.15.20//NONSGML v1.0//EN
CALSCALE:GREGORIAN
METHOD:PUBLISH
X-ORIGINAL-URL:https://www.aforpel.org
X-WR-CALDESC:Évènements pour Aforpel
REFRESH-INTERVAL;VALUE=DURATION:PT1H
X-Robots-Tag:noindex
X-PUBLISHED-TTL:PT1H
BEGIN:VTIMEZONE
TZID:Europe/Paris
BEGIN:DAYLIGHT
TZOFFSETFROM:+0100
TZOFFSETTO:+0200
TZNAME:CEST
DTSTART:20240331T010000
END:DAYLIGHT
BEGIN:STANDARD
TZOFFSETFROM:+0200
TZOFFSETTO:+0100
TZNAME:CET
DTSTART:20241027T010000
END:STANDARD
BEGIN:DAYLIGHT
TZOFFSETFROM:+0100
TZOFFSETTO:+0200
TZNAME:CEST
DTSTART:20250330T010000
END:DAYLIGHT
BEGIN:STANDARD
TZOFFSETFROM:+0200
TZOFFSETTO:+0100
TZNAME:CET
DTSTART:20251026T010000
END:STANDARD
BEGIN:DAYLIGHT
TZOFFSETFROM:+0100
TZOFFSETTO:+0200
TZNAME:CEST
DTSTART:20260329T010000
END:DAYLIGHT
BEGIN:STANDARD
TZOFFSETFROM:+0200
TZOFFSETTO:+0100
TZNAME:CET
DTSTART:20261025T010000
END:STANDARD
END:VTIMEZONE
BEGIN:VEVENT
DTSTART;TZID=Europe/Paris:20250910T193000
DTEND;TZID=Europe/Paris:20250910T210000
DTSTAMP:20260425T205932
CREATED:20250730T173050Z
LAST-MODIFIED:20250829T101036Z
UID:5759-1757532600-1757538000@www.aforpel.org
SUMMARY:Entreprendre une psychothérapie quand on est borderline… Avec qui\, pendant combien de temps\, comment ça se passe ?
DESCRIPTION:Il est tout à fait naturel d’avoir des réserves ou des craintes quand il s’agit de commencer une psychothérapie\, surtout si l’on vit avec des difficultés émotionnelles intenses. Lorsqu’une personne atteinte du trouble borderline envisage de commencer une thérapie\, il peut y avoir de bonnes raisons d’hésiter ou de retarder la prise de RDV avec le professionnel de santé. \nPeur du jugement : La thérapie nécessite de parler de soi\,  de partager avec un inconnu un vécu de souffrances\, des expériences douloureuses implique de montrer une vulnérabilité qui pourrait être exploitée. \nCrainte de l’intensité émotionnelle : Les séances de thérapie peuvent faire remonter des souvenirs difficiles\, provoquer des réactions émotionnelles intenses. La peur de pleurer\, de montrer ses émotions refoulées peut induire un sentiment de honte\, de dégoût de soi-même. \nDoute sur la capacité à changer : Des expériences précédentes inefficaces\, le manque de confiance dans la compétence du thérapeute\, le doute de pouvoir évoluer ou de maîtriser les émotions\, peut générer de la peur ou de la frustration face au processus thérapeutique. \nPeur de la stigmatisation : La crainte d’être jugé ou mal compris\, tant par les autres que par soi-même\, peut dissuader de s’engager dans une thérapie. \nRisques de rupture ou de rejet : La peur que le thérapeute ou le processus lui-même ne réponde pas aux attentes\, ou que la thérapie ne fonctionne pas\, peut être source d’anxiété. \nConfrontation avec soi-même : La thérapie implique souvent une introspection profonde\, ce qui peut être effrayant si on redoute de découvrir des aspects de soi difficiles ou honteux. \nAnxiété liée à la dépendance : La relation thérapeutique peut susciter des inquiétudes concernant la dépendance ou la fusion avec le thérapeute\, ou la peur de devenir vulnérable dans cette relation. \nComplexité du processus : La perspective de devoir faire face à des processus longs et souvent difficiles peut décourager ou faire hésiter à commencer la thérapie. \nIl est important de souligner que malgré ces aspects effrayants\, la psychothérapie offre un espace sécurisant pour travailler sur soi\, quand elle est réalisée avec un professionnel formé au trouble de la personnalité borderline. Au cours de cette soirée\, je vous présenterai tous les éléments d’un protocole psychothérapeutique adapté aux personnes qui présentent les aspects du trouble borderline. Inscrivez vous dès maintenant en cliquant sur le lien ci-dessous. \nA bientôt. \nPierre NANTAS\, président fondateur de l’AFORPEL \n	\n		\n		\n			\n		\n		\n			Entreprendre une psychothérapie quand on est borderline…\n		\n		\n		\n		\n		Pour participer à cette visioconférence effectuez votre règlement en cliquant sur le bouton ci-dessous \n\n		\n		\n		30\,00€  \n		\n		\n		\n		Processing ... Paiement par CBStripe Payments nécessite que Javascript soit pris en charge par le navigateur pour fonctionner.\n		\n	\n	\n 
URL:https://www.aforpel.org/event/entreprendre-une-psychotherapie-quand-on-est-borderline/
LOCATION:Visio conférence
CATEGORIES:Pour les personnes qui se reconnaissent dans le trouble borderline,Tout public
ORGANIZER;CN="Pierre Nantas":MAILTO:pn.psycoach@gmail.com
END:VEVENT
END:VCALENDAR