BEGIN:VCALENDAR
VERSION:2.0
PRODID:-//Aforpel - ECPv6.15.20//NONSGML v1.0//EN
CALSCALE:GREGORIAN
METHOD:PUBLISH
X-ORIGINAL-URL:https://www.aforpel.org
X-WR-CALDESC:Évènements pour Aforpel
REFRESH-INTERVAL;VALUE=DURATION:PT1H
X-Robots-Tag:noindex
X-PUBLISHED-TTL:PT1H
BEGIN:VTIMEZONE
TZID:Europe/Paris
BEGIN:DAYLIGHT
TZOFFSETFROM:+0100
TZOFFSETTO:+0200
TZNAME:CEST
DTSTART:20250330T010000
END:DAYLIGHT
BEGIN:STANDARD
TZOFFSETFROM:+0200
TZOFFSETTO:+0100
TZNAME:CET
DTSTART:20251026T010000
END:STANDARD
BEGIN:DAYLIGHT
TZOFFSETFROM:+0100
TZOFFSETTO:+0200
TZNAME:CEST
DTSTART:20260329T010000
END:DAYLIGHT
BEGIN:STANDARD
TZOFFSETFROM:+0200
TZOFFSETTO:+0100
TZNAME:CET
DTSTART:20261025T010000
END:STANDARD
BEGIN:DAYLIGHT
TZOFFSETFROM:+0100
TZOFFSETTO:+0200
TZNAME:CEST
DTSTART:20270328T010000
END:DAYLIGHT
BEGIN:STANDARD
TZOFFSETFROM:+0200
TZOFFSETTO:+0100
TZNAME:CET
DTSTART:20271031T010000
END:STANDARD
END:VTIMEZONE
BEGIN:VEVENT
DTSTART;TZID=Europe/Paris:20260505T180000
DTEND;TZID=Europe/Paris:20260505T200000
DTSTAMP:20260424T155250
CREATED:20250602T075335Z
LAST-MODIFIED:20260420T110028Z
UID:5612-1778004000-1778011200@www.aforpel.org
SUMMARY:Groupe de parole pour les borderline
DESCRIPTION:Vous n’êtes pas seul(e)\nVivre avec un trouble de la personnalité borderline peut être éprouvant\, déroutant et parfois isolant. Ce groupe de parole a été conçu pour vous offrir un espace sûr où vous pouvez enfin être entendu(e)\, compris(e) et accueilli(e)\, sans jugement. \nUn espace de parole bienveillant et sécurisé\nAnimé par Aude Van den Brule et Delphine Mahieu\, ce groupe s’adresse aux personnes concernées par le trouble de la personnalité borderline\, diagnostiqué ou non. \nDans un cadre chaleureux\, confidentiel et respectueux\, chaque participant est libre de partager : \n\nson vécu et ses émotions\,\nses difficultés et questionnements\,\nses expériences du quotidien.\n\nIci\, il n’y a ni conseil imposé\, ni jugement. Seulement une écoute attentive\, une présence authentique et le respect du rythme de chacun. \nPourquoi rejoindre ce groupe de parole ?\n\nRompre le sentiment d’isolement\nSe sentir compris(e) par des personnes qui vivent des expériences similaires\nMettre des mots sur ce que vous traversez\nTrouver un espace de soutien\, de reconnaissance et d’apaisement\nAvancer à votre rythme\, dans la confiance et la confidentialité\n\nUn temps pour vous\, avec les autres\nCe groupe est un lieu d’ouverture\, de respect de soi et des autres\, où la parole peut circuler librement et en toute sécurité. Un temps pour souffler\, déposer\, échanger et se reconnecter. \n\n	\n		\n		\n			\n		\n		\n			Groupe de parole - A. Van Den Brule - D. Mahieu\n		\n		\n		\n		\n		Pour régler votre participation au groupe de parole réservé aux borderline cliquer sur le bouton ci-dessous. \n\n		\n		\n		30\,00€  \n		\n		\n		\n		Processing ... Paiement par CBStripe Payments nécessite que Javascript soit pris en charge par le navigateur pour fonctionner.
URL:https://www.aforpel.org/event/groupe-de-parole-pour-les-borderline-anime-par-aude-van-den-brule-et-delphine-mahieu/
LOCATION:En visio conférence
CATEGORIES:Groupe de parole borderline
ORGANIZER;CN="Aude Van Den Brule":MAILTO:aude.vdbrule@gmail.com
END:VEVENT
BEGIN:VEVENT
DTSTART;TZID=Europe/Paris:20260706T200000
DTEND;TZID=Europe/Paris:20260706T213000
DTSTAMP:20260424T155251
CREATED:20260325T114026Z
LAST-MODIFIED:20260421T114830Z
UID:6321-1783368000-1783373400@www.aforpel.org
SUMMARY:Les traitements du trouble de la personnalité borderline
DESCRIPTION:Mieux comprendre le trouble de la personnalité borderline\, c’est déjà faire un pas vers le mieux-être. \nCette visioconférence s’adresse aux personnes concernées par un TPB ainsi qu’à leurs proches\, qui souhaitent mieux comprendre ce trouble souvent complexe et les solutions concrètes pour y faire face. \nAu programme : un éclairage clair sur les approches des troubles psychiatriques\, un focus sur les traitements reconnus comme efficaces dans le TPB\, et une présentation des différentes thérapies proposées\, pour vous aider à mieux vous repérer dans les parcours de soin. \nVous découvrirez également ce que signifie réellement le rétablissement\, et comment il peut devenir une perspective concrète et accessible. \nObjectif : vous apporter des clés de compréhension\, des repères fiables et des pistes concrètes pour avancer\, que vous soyez directement concerné ou proche aidant. \nUn temps d’échange avec les intervenants vous permettra de poser vos questions et d’aller plus loin. \n	\n		\n		\n			\n		\n		\n			Les traitements du trouble de la personnalité borderline\n		\n		\n		\n		\n		Pour participer à cette visioconférence effectuez votre règlement en cliquant sur le bouton ci-dessous \n\n		\n		\n		50\,00€  \n		\n		\n		\n		Processing ... Paiement par CBStripe Payments nécessite que Javascript soit pris en charge par le navigateur pour fonctionner.
URL:https://www.aforpel.org/event/les-traitements-du-trouble-de-la-personnalite-borderline/
LOCATION:Visio conférence
ORGANIZER;CN="Wynona Wallart":MAILTO:psychologuewallart@gmail.com
END:VEVENT
END:VCALENDAR