BEGIN:VCALENDAR
VERSION:2.0
PRODID:-//Aforpel - ECPv6.15.20//NONSGML v1.0//EN
CALSCALE:GREGORIAN
METHOD:PUBLISH
X-WR-CALNAME:Aforpel
X-ORIGINAL-URL:https://www.aforpel.org
X-WR-CALDESC:Évènements pour Aforpel
REFRESH-INTERVAL;VALUE=DURATION:PT1H
X-Robots-Tag:noindex
X-PUBLISHED-TTL:PT1H
BEGIN:VTIMEZONE
TZID:Europe/Paris
BEGIN:DAYLIGHT
TZOFFSETFROM:+0100
TZOFFSETTO:+0200
TZNAME:CEST
DTSTART:20240331T010000
END:DAYLIGHT
BEGIN:STANDARD
TZOFFSETFROM:+0200
TZOFFSETTO:+0100
TZNAME:CET
DTSTART:20241027T010000
END:STANDARD
BEGIN:DAYLIGHT
TZOFFSETFROM:+0100
TZOFFSETTO:+0200
TZNAME:CEST
DTSTART:20250330T010000
END:DAYLIGHT
BEGIN:STANDARD
TZOFFSETFROM:+0200
TZOFFSETTO:+0100
TZNAME:CET
DTSTART:20251026T010000
END:STANDARD
BEGIN:DAYLIGHT
TZOFFSETFROM:+0100
TZOFFSETTO:+0200
TZNAME:CEST
DTSTART:20260329T010000
END:DAYLIGHT
BEGIN:STANDARD
TZOFFSETFROM:+0200
TZOFFSETTO:+0100
TZNAME:CET
DTSTART:20261025T010000
END:STANDARD
END:VTIMEZONE
BEGIN:VEVENT
DTSTART;VALUE=DATE:20250111
DTEND;VALUE=DATE:20250113
DTSTAMP:20260425T152324
CREATED:20240922T162223Z
LAST-MODIFIED:20250110T174315Z
UID:4757-1736553600-1736726399@www.aforpel.org
SUMMARY:Groupe continu de thérapie pour personnes borderline au Havre.
DESCRIPTION:L’usage de la dynamique de groupe avec un public de personnes qui présentent des symptômes du trouble de la personnalité borderline constitue un moyen efficace de « faire bouger » les résistances qui peuvent ralentire la psychothérapie individuelle. \nAnne Rysenaer et Franck Lainé ouvrent un cycle de groupes thérapeutiques continus au Havre à partir de janvier 2025. \nLa première session se tiendra les 11 et 12 janvier prochain. \nIMPORTANT: Pour tous renseignements et Inscription\, contactez  :\nAnne Rysenaer \n07.45.17.42.44\nhttps://anne-rysenaer.fr/\n\nN’utilisez pas le formulaire contact de l’AFORPEL\, votre inscription risquerait de ne pas être prise en charge.
URL:https://www.aforpel.org/event/lehavre-groupe-continu-de-therapie-pour-borderline/
CATEGORIES:Groupe continu de thérapie,Pour les personnes qui se reconnaissent dans le trouble borderline
END:VEVENT
BEGIN:VEVENT
DTSTART;TZID=Europe/Paris:20250121T180000
DTEND;TZID=Europe/Paris:20250121T200000
DTSTAMP:20260425T152324
CREATED:20240912T101314Z
LAST-MODIFIED:20250114T120056Z
UID:4623-1737482400-1737489600@www.aforpel.org
SUMMARY:Votre couple: Quitter l'enfance pour devenir adulte
DESCRIPTION:La peur de l’abandon\, les relations fusionnelles qui caractérise les couple borderline\, sont les symptômes de la peur de grandir\, de s’affirmer\, d’agir\, d’accepter d’être seul\, bref\, de devenir adulte. \nDans les thérapies de couple\, confronté à un chantage affectif quasi permanent\, il est fréquent de constater que l’un des deux partenaires se comporte tantôt comme l’enfant\, et/ou tantôt comme le parent de l’autre mais jamais comme un adulte. \nL’alternance de ces deux rôles contribue à un équilibre instable qui finit par générer un contexte propice aux disputes\, aux violences verbales et physiques qui constitue le quotidien des couples borderline. \nAu cours de cette session de deux heures\, les participants découvriront les origines mais également les solutions pour faire face aux obstacles qui nuisent à l’épanouissement de leur couple. Pour le prix d’une participation\, deux personnes peuvent participer.  \n  \n	\n		\n		\n			\n		\n		\n			Votre couple: Quitter l'enfance pour devenir adulte\n		\n		\n		\n		\n		Pour vous inscrire effectuez votre règlement en cliquant sur le bouton ci-dessous. \nLe tarif adhérent pour cette visioconférence est de 30€. Pour en bénéficier vous devez saisir le code de promotion dans le champ indiqué puis sur "appliquer". \nLe formulaire d'adhésion est disponible à cette page. \n\n		\n		\n		70\,00€  \n		\n		\n		\n		Processing ... Paiement par CBStripe Payments nécessite que Javascript soit pris en charge par le navigateur pour fonctionner.
URL:https://www.aforpel.org/event/votre-couple-quitter-lenfance-pour-devenir-adulte/
LOCATION:Visio conférence
CATEGORIES:Pour les personnes qui se reconnaissent dans le trouble borderline
ORGANIZER;CN="Aude Van Den Brule":MAILTO:aude.vdbrule@gmail.com
END:VEVENT
END:VCALENDAR