BEGIN:VCALENDAR
VERSION:2.0
PRODID:-//Aforpel - ECPv6.15.20//NONSGML v1.0//EN
CALSCALE:GREGORIAN
METHOD:PUBLISH
X-WR-CALNAME:Aforpel
X-ORIGINAL-URL:https://www.aforpel.org
X-WR-CALDESC:Évènements pour Aforpel
REFRESH-INTERVAL;VALUE=DURATION:PT1H
X-Robots-Tag:noindex
X-PUBLISHED-TTL:PT1H
BEGIN:VTIMEZONE
TZID:Europe/Paris
BEGIN:DAYLIGHT
TZOFFSETFROM:+0100
TZOFFSETTO:+0200
TZNAME:CEST
DTSTART:20240331T010000
END:DAYLIGHT
BEGIN:STANDARD
TZOFFSETFROM:+0200
TZOFFSETTO:+0100
TZNAME:CET
DTSTART:20241027T010000
END:STANDARD
BEGIN:DAYLIGHT
TZOFFSETFROM:+0100
TZOFFSETTO:+0200
TZNAME:CEST
DTSTART:20250330T010000
END:DAYLIGHT
BEGIN:STANDARD
TZOFFSETFROM:+0200
TZOFFSETTO:+0100
TZNAME:CET
DTSTART:20251026T010000
END:STANDARD
BEGIN:DAYLIGHT
TZOFFSETFROM:+0100
TZOFFSETTO:+0200
TZNAME:CEST
DTSTART:20260329T010000
END:DAYLIGHT
BEGIN:STANDARD
TZOFFSETFROM:+0200
TZOFFSETTO:+0100
TZNAME:CET
DTSTART:20261025T010000
END:STANDARD
END:VTIMEZONE
BEGIN:VEVENT
DTSTART;TZID=Europe/Paris:20250220T190000
DTEND;TZID=Europe/Paris:20250220T200000
DTSTAMP:20260425T134836
CREATED:20250204T112959Z
LAST-MODIFIED:20250210T122958Z
UID:5133-1740078000-1740081600@www.aforpel.org
SUMMARY:Information sur les pairs aidants des proches de borderline
DESCRIPTION:Malgré toutes nos actions entreprises auprès des personnes borderline\, de leurs proches et des professionnels de santé\, on constate que la prise en charge et le soutien psychologique des proches de personnes souffrant de trouble de la personnalité borderline (TPB) est souvent insuffisante. \nLes groupes de soutien sont encore trop rares dans de nombreuses régions et les proches\, (parents et conjoints) ne savent où chercher de l’aide. \nPour tenter de pallier cette situation\, Pierre NANTAS projette de développer sur le plan national\, dès la rentrée prochaine\, un réseau de pairs aidants pour soutenir les proches des personnes borderline. \nLe 20 février prochain\, il présentera ce projet ainsi que le contenu du cycle de psychoéducation proposé aux adhérents de l’AFORPEL intéressés par ce défi. \nSi vous souhaitez en savoir plus\, inscrivez vous\, dès aujourd’hui\, en cliquant sur le lien suivant. \n\n\nINSCRIPTION
URL:https://www.aforpel.org/event/information-sur-les-pairs-aidants-des-proches-de-borderline/
LOCATION:Visio conférence
CATEGORIES:Groupes de psychoéducation pour les proches de personnes borderline
ORGANIZER;CN="Pierre Nantas":MAILTO:pn.psycoach@gmail.com
END:VEVENT
BEGIN:VEVENT
DTSTART;TZID=Europe/Paris:20250228T200000
DTEND;TZID=Europe/Paris:20250228T213000
DTSTAMP:20260425T134836
CREATED:20250219T122927Z
LAST-MODIFIED:20250305T091227Z
UID:5193-1740772800-1740778200@www.aforpel.org
SUMMARY:Formation pair aidant 1/5 : Qu’est-ce qu’un trouble de la personnalité ?
DESCRIPTION:Objectifs de la formation :\nSi vous êtes travailleur social\, psychopraticien\, éducateur spécialisé\, pompier ou infirmier\, la formation proposée par l’AFORPEL au rôle de pair aidant participera à votre développement personnel. \nVous pouvez acquérir de nouvelles compétences\, élargir votre compréhension des dynamiques interpersonnelles et renforcer certaines aptitudes. L’AFORPEL étant un organisme de formation\, les frais de cette formation peuvent être pris en charge au titre de la formation permanente. \n\nEnrichir et renforcer vos connaissances à propos du trouble de la personnalité borderline (TPL)\nAcquérir des compétences pratiques pour mieux soutenir les proches de personnes borderline.\nRenforcer vos aptitudes relationnelles et développer des stratégies de soutien pour aider vos proches tout en préservant votre équilibre émotionnel personnel.\nÉchanger avec d’autres proches et partager vos expériences.\nConstruire un réseau de soutien avec d’autres proches.\n\nAnimateurs :\nPierre Nantas Président fondateur de l’AFORPEL\nInès Castelot\, vice-présidente de l’AFORPEL
URL:https://www.aforpel.org/event/formation-pair-aidant-1-5-quest-ce-quun-trouble-de-la-personnalite/
LOCATION:Visio conférence
ORGANIZER;CN="Pierre Nantas":MAILTO:pn.psycoach@gmail.com
END:VEVENT
END:VCALENDAR