BEGIN:VCALENDAR
VERSION:2.0
PRODID:-//Aforpel - ECPv6.15.20//NONSGML v1.0//EN
CALSCALE:GREGORIAN
METHOD:PUBLISH
X-WR-CALNAME:Aforpel
X-ORIGINAL-URL:https://www.aforpel.org
X-WR-CALDESC:Évènements pour Aforpel
REFRESH-INTERVAL;VALUE=DURATION:PT1H
X-Robots-Tag:noindex
X-PUBLISHED-TTL:PT1H
BEGIN:VTIMEZONE
TZID:Europe/Paris
BEGIN:DAYLIGHT
TZOFFSETFROM:+0100
TZOFFSETTO:+0200
TZNAME:CEST
DTSTART:20240331T010000
END:DAYLIGHT
BEGIN:STANDARD
TZOFFSETFROM:+0200
TZOFFSETTO:+0100
TZNAME:CET
DTSTART:20241027T010000
END:STANDARD
BEGIN:DAYLIGHT
TZOFFSETFROM:+0100
TZOFFSETTO:+0200
TZNAME:CEST
DTSTART:20250330T010000
END:DAYLIGHT
BEGIN:STANDARD
TZOFFSETFROM:+0200
TZOFFSETTO:+0100
TZNAME:CET
DTSTART:20251026T010000
END:STANDARD
BEGIN:DAYLIGHT
TZOFFSETFROM:+0100
TZOFFSETTO:+0200
TZNAME:CEST
DTSTART:20260329T010000
END:DAYLIGHT
BEGIN:STANDARD
TZOFFSETFROM:+0200
TZOFFSETTO:+0100
TZNAME:CET
DTSTART:20261025T010000
END:STANDARD
END:VTIMEZONE
BEGIN:VEVENT
DTSTART;TZID=Europe/Paris:20251007T120000
DTEND;TZID=Europe/Paris:20251007T130000
DTSTAMP:20260425T012113
CREATED:20250923T160724Z
LAST-MODIFIED:20251006T234159Z
UID:5871-1759838400-1759842000@www.aforpel.org
SUMMARY:Emploi et troubles de la personnalité : les clés pour avancer et s’épanouir
DESCRIPTION:Marjolaine Naffouti \nComment concilier un trouble de la personnalité et une vie professionnelle épanouissante ? Ses caractéristiques\, encore mal comprises\, sont parfois perçues comme des freins ou sources d’incompréhension. Pourtant\, il est possible de construire et de préserver sa carrière en développant des stratégies adaptées\, en valorisant ses ressources et en mobilisant les bons appuis. \nCette conférence débat sera animée par Marjolaine Naffouti\, experte en ressources humaines et accompagnement de carrières\, et Pierre Nantas\, psychothérapeute et Président de l’AFORPEL. Ce moment de réflexion et de partage permettra d’envisager des pistes de solutions concrètes pour avancer  et s’épanouir dans son parcours professionnel avec un trouble de la personnalité borderline. \nNous aborderons des thématiques essentielles :\n• Les impacts possibles des troubles de la personnalité dans le monde du travail.\n• Les leviers pour mieux vivre son parcours professionnel.\n• Le rôle des entreprises et des managers dans l’accompagnement.\n• Des outils pratiques pour concilier équilibre personnel et réussite professionnelle. \nCette conférence s’adresse aux personnes borderline\, à leurs proches\, mais aussi aux professionnels de l’accompagnement et acteurs du monde du travail (DRH\, médecins du travail\, assistantes sociales…) pour mieux comprendre\, dépasser les obstacles et tracer des perspectives d’avenir. \nParticipation gratuite réservée aux adhérents de l’AFORPEL.
URL:https://www.aforpel.org/event/carriere-et-troubles-de-la-personnalite-les-cles-pour-avancer-et-sepanouir/
LOCATION:Visio conférence
CATEGORIES:Conférences pour les particuliers, les professionnels de santé et les étudiants en master de psychologie,Pour les personnes qui se reconnaissent dans le trouble borderline
ORGANIZER;CN="Pierre Nantas":MAILTO:pn.psycoach@gmail.com
END:VEVENT
BEGIN:VEVENT
DTSTART;TZID=Europe/Paris:20251009T183000
DTEND;TZID=Europe/Paris:20251009T200000
DTSTAMP:20260425T012113
CREATED:20250224T145207Z
LAST-MODIFIED:20250929T081610Z
UID:5143-1760034600-1760040000@www.aforpel.org
SUMMARY:Le syndrome d’abandon dans le trouble borderline
DESCRIPTION:Le syndrome d’abandon est une peur intense et irrationnelle d’être abandonné(e) ou rejeté(e)\, qui peut provoquer de l’anxiété\, de la dépendance affective et des comportements impulsifs. \nChez les personnes qui souffrent du trouble borderline\, cette peur de l’abandon est exacerbée et peut provoquer des réactions émotionnelles extrêmes. Elle constitue un des symptômes centraux de la pathologie. \nLe syndrome abandonnique est souvent lié à une carence affective précoce\, qui\, elle-même\, découle de troubles de l’attachement. Lorsqu’un enfant ne reçoit pas suffisamment d’amour\, de sécurité et de constance émotionnelle\, il développe un attachement insécure (anxieux ou évitant) qui peut entraîner\, à l’âge adulte\, une peur excessive d’être abandonné(e). \nCette peur se manifeste par des comportements de dépendance affective\, de jalousie\, d’angoisse ou de rejet des autres par anticipation. Elle est également à l’origine de nombreuses addictions (anorexie\, boulimie\, cannabis\, alcool en particulier…) \nCe schéma peut être particulièrement intense chez les personnes souffrant de trouble borderline\, où l’abandon est vécu comme une menace existentielle. \nAu cours de la visioconférence\, Aude Van den brule\, présentera en détail le syndrome de l’abandon et les problématiques qui en découlent. Vous connaîtrez ses différents corollaires tels que : les difficultés relationnelles\, la méfiance excessive\, l’instabilité des relations\, l’anxiété\, etc. \nVous envisagerez également la gestion des émotions qui peuvent être exprimées de manière démesurée (colère\, tristesse…). \nÀ l’issue de cette conférence\, vous saurez reconnaître les différentes blessures de l’abandon et les comprendre pour mieux les appréhender. Vous connaîtrez également les solutions psychothérapeutiques les mieux adaptées pour s’en détacher. \n	\n		\n		\n			\n		\n		\n			Inscription à la visioconférence - Le syndrome d’abandon dans le trouble borderline\n		\n		\n		\n		\n		Pour vous inscrire effectuez votre règlement en cliquant sur le bouton ci-dessous. \nLe tarif adhérent pour cette visioconférence est de 35€. Pour en bénéficier vous devez saisir le code de promotion dans le champ indiqué puis sur "appliquer". \nLe formulaire d'adhésion est disponible à cette page. \n\n		\n		\n		50\,00€  \n		\n		\n		\n		Processing ... Paiement par CBStripe Payments nécessite que Javascript soit pris en charge par le navigateur pour fonctionner.
URL:https://www.aforpel.org/event/le-syndrome-dabandon-dans-le-trouble-borderline/
LOCATION:Visio conférence
ORGANIZER;CN="Aude Van Den Brule":MAILTO:aude.vdbrule@gmail.com
END:VEVENT
BEGIN:VEVENT
DTSTART;TZID=Europe/Paris:20251018T140000
DTEND;TZID=Europe/Paris:20251018T160000
DTSTAMP:20260425T012113
CREATED:20250827T074200Z
LAST-MODIFIED:20250827T155945Z
UID:5786-1760796000-1760803200@www.aforpel.org
SUMMARY:Ateliers de psychoéducation à propos du trouble borderline à Villeurbanne
DESCRIPTION:Wynona Wallart\, psychologue spécialisée dans la thérapie du trouble borderline\, vous propose de participer\,  à partir du 18 octobre\, à 5 ateliers de psychoéducation sur le trouble borderline\, qu’elle animera en présentiel\, dans son cabinet\, au 12 rue Jean Bourgey\, à Villeurbanne (Métro Gratte-ciel). \nLe premier atelier se tiendra le 18 octobre  \nIl vous permettra de mieux comprendre ce trouble qui touche près de 3\,5% de la population française et qui est responsable de plus de 10 000 suicides par an\, chez les 15-25 ans\, de déconstruire les idées reçues\, d’en connaître les origines et le fonctionnement. \n\nNotez dès maintenant les autres dates \nLe 8 novembre\nAu programme:  Les émotions intenses : apprendre à les reconnaître\, les Identifier\, les nommer. \nLe 22 novembre\nAu programme : Les crises : comprendre et prévenir\, reconnaître les signes précurseurs et\ndévelopper des stratégies pour les gérer. \nLe 6 décembre\nAu programme: Les ressources et les stratégies d’apaisement. Expérimenter des outils concrets pour\nréguler et apaiser la crise. \nLe 20 décembre\nAu programme : Cultiver l’espoir et le rétablissement. Ouvrir sur l’avenir\, renforcer l’estime\nde soi et l’espoir de guérison. \nCoût\n1 atelier : 40€ les 2h\n5 ateliers : 180€ au lieu de 200€\n\nPaiement :\nEspèces ; Chèques ; Virement
URL:https://www.aforpel.org/event/ateliers-psychoeducation-du-trouble-borderline/
LOCATION:Atelier psychoéducation à Villeurbanne\, 12 rue Jean Bourgey\, Villeurbanne\, 69266\, France
CATEGORIES:Groupes de psychoéducation pour les proches de personnes borderline,Pour les personnes qui se reconnaissent dans le trouble borderline,Stages d'appropriation
ORGANIZER;CN="Wynona Wallart":MAILTO:psychologuewallart@gmail.com
END:VEVENT
END:VCALENDAR