BEGIN:VCALENDAR
VERSION:2.0
PRODID:-//Aforpel - ECPv6.15.20//NONSGML v1.0//EN
CALSCALE:GREGORIAN
METHOD:PUBLISH
X-WR-CALNAME:Aforpel
X-ORIGINAL-URL:https://www.aforpel.org
X-WR-CALDESC:Évènements pour Aforpel
REFRESH-INTERVAL;VALUE=DURATION:PT1H
X-Robots-Tag:noindex
X-PUBLISHED-TTL:PT1H
BEGIN:VTIMEZONE
TZID:Europe/Paris
BEGIN:DAYLIGHT
TZOFFSETFROM:+0100
TZOFFSETTO:+0200
TZNAME:CEST
DTSTART:20250330T010000
END:DAYLIGHT
BEGIN:STANDARD
TZOFFSETFROM:+0200
TZOFFSETTO:+0100
TZNAME:CET
DTSTART:20251026T010000
END:STANDARD
BEGIN:DAYLIGHT
TZOFFSETFROM:+0100
TZOFFSETTO:+0200
TZNAME:CEST
DTSTART:20260329T010000
END:DAYLIGHT
BEGIN:STANDARD
TZOFFSETFROM:+0200
TZOFFSETTO:+0100
TZNAME:CET
DTSTART:20261025T010000
END:STANDARD
BEGIN:DAYLIGHT
TZOFFSETFROM:+0100
TZOFFSETTO:+0200
TZNAME:CEST
DTSTART:20270328T010000
END:DAYLIGHT
BEGIN:STANDARD
TZOFFSETFROM:+0200
TZOFFSETTO:+0100
TZNAME:CET
DTSTART:20271031T010000
END:STANDARD
END:VTIMEZONE
BEGIN:VEVENT
DTSTART;TZID=Europe/Paris:20260127T200000
DTEND;TZID=Europe/Paris:20260127T213000
DTSTAMP:20260424T221320
CREATED:20260116T092440Z
LAST-MODIFIED:20260120T091512Z
UID:6094-1769544000-1769549400@www.aforpel.org
SUMMARY:Aimer une personne borderline : comprendre pour ne plus s’épuiser
DESCRIPTION:Relations intenses\, passionnelles\, mais aussi instables\, marquées par la peur de l’abandon\, la jalousie et des crises émotionnelles déroutantes… Vivre en couple avec une personne présentant un trouble de la personnalité borderline peut rapidement devenir épuisant. \nCette visioconférence vous propose de mieux comprendre le trouble borderline\, ses origines et ses manifestations dans la vie de couple\, afin de sortir des cycles de crise et d’ouvrir des perspectives de stabilisation et de transformation de la relation. \n\nPour les partenaires : repérer les dynamiques de dépendance\, de sauvetage ou de mise à distance\, apprendre à poser des limites justes sans culpabiliser ni menacer.\nPour les personnes concernées : mieux comprendre vos réactions émotionnelles\, vos besoins affectifs et vos peurs afin d’envisager une évolution relationnelle apaisée.\nPour les professionnels : acquérir des repères cliniques concrets pour accompagner les couples concernés.\n\nSeront abordés : les bases du trouble borderline\, le rôle des traumatismes et de l’attachement\, les mécanismes de crise dans le couple et les pistes thérapeutiques actuelles. \nAnimée par Pierre Nantas\, psychothérapeute spécialiste du trouble borderline\, président fondateur de l’AFORPEL. \n	\n		\n		\n			\n		\n		\n			L'amour impossible\n		\n		\n		\n		\n		Pour participer à cette visioconférence effectuez votre règlement en cliquant sur le bouton ci-dessous. \nLe tarif de 60€ s'applique également pour une participation en couple. Si vous participez avec votre conjoint(e) vous ne payez qu'une seule fois. \n\n		\n		\n		60\,00€  \n		\n		\n		\n		Processing ... Paiement par CBStripe Payments nécessite que Javascript soit pris en charge par le navigateur pour fonctionner.
URL:https://www.aforpel.org/event/aimer-une-personne-borderline-comprendre-pour-ne-plus-sepuiser/
ORGANIZER;CN="Pierre Nantas":MAILTO:pn.psycoach@gmail.com
END:VEVENT
END:VCALENDAR