BEGIN:VCALENDAR
VERSION:2.0
PRODID:-//Aforpel - ECPv6.15.20//NONSGML v1.0//EN
CALSCALE:GREGORIAN
METHOD:PUBLISH
X-WR-CALNAME:Aforpel
X-ORIGINAL-URL:https://www.aforpel.org
X-WR-CALDESC:Évènements pour Aforpel
REFRESH-INTERVAL;VALUE=DURATION:PT1H
X-Robots-Tag:noindex
X-PUBLISHED-TTL:PT1H
BEGIN:VTIMEZONE
TZID:Europe/Paris
BEGIN:DAYLIGHT
TZOFFSETFROM:+0100
TZOFFSETTO:+0200
TZNAME:CEST
DTSTART:20250330T010000
END:DAYLIGHT
BEGIN:STANDARD
TZOFFSETFROM:+0200
TZOFFSETTO:+0100
TZNAME:CET
DTSTART:20251026T010000
END:STANDARD
BEGIN:DAYLIGHT
TZOFFSETFROM:+0100
TZOFFSETTO:+0200
TZNAME:CEST
DTSTART:20260329T010000
END:DAYLIGHT
BEGIN:STANDARD
TZOFFSETFROM:+0200
TZOFFSETTO:+0100
TZNAME:CET
DTSTART:20261025T010000
END:STANDARD
BEGIN:DAYLIGHT
TZOFFSETFROM:+0100
TZOFFSETTO:+0200
TZNAME:CEST
DTSTART:20270328T010000
END:DAYLIGHT
BEGIN:STANDARD
TZOFFSETFROM:+0200
TZOFFSETTO:+0100
TZNAME:CET
DTSTART:20271031T010000
END:STANDARD
END:VTIMEZONE
BEGIN:VEVENT
DTSTART;TZID=Europe/Paris:20260217T183000
DTEND;TZID=Europe/Paris:20260217T200000
DTSTAMP:20260424T191529
CREATED:20260130T105125Z
LAST-MODIFIED:20260216T182458Z
UID:6162-1771353000-1771358400@www.aforpel.org
SUMMARY:Quand le corps meurtri dit les souffrances de l’âme
DESCRIPTION:Quand le corps parle à la place des mots\nComprendre et apaiser la souffrance psychique dans le fonctionnement borderline \nEt si le corps n’était pas l’ennemi… mais un messager ? \nDouleurs inexpliquées\, tensions permanentes\, conduites à risque\, dissociation\, sentiment de vide : lorsque les émotions débordent ou que les mots manquent\, c’est souvent le corps qui crie ce que l’esprit ne peut pas dire. \nCette visioconférence vous propose une plongée éclairante au cœur du lien intime entre le corps et la souffrance psychique\, avec un focus particulier sur le fonctionnement borderline. Vous découvrirez comment le corps devient le premier lieu d’expression de la détresse — et surtout\, comment il peut progressivement se transformer en ressource de régulation\, d’ancrage et de reconstruction. \nÀ travers une approche intégrative et accessible (psychologie borderline\, psychodynamique\, TCD\, schémas de Young et travail corporel)\, cette rencontre vous aidera à : \n\nmieux comprendre ce que le corps exprime quand les émotions sont trop intenses\ndonner du sens aux manifestations corporelles souvent incomprises\nexplorer des pistes concrètes et sécurisées pour se réapproprier le corps\n\nMouvement\, respiration\, yoga\, créativité\, médiations corporelles… autant de leviers pour apaiser les émotions\, renforcer le sentiment d’identité et soutenir le chemin de guérison. \nCette conférence s’adresse aux personnes concernées\, à leurs proches ainsi qu’aux professionnels\, dans un espace de compréhension\, de soutien et surtout d’espoir. \n	\n		\n		\n			\n		\n		\n			Quand le corps meurtri dit les souffrances de l’âme\n		\n		\n		\n		\n		Pour participer à cette visioconférence effectuez votre règlement en cliquant sur le bouton ci-dessous \n\n		\n		\n		50\,00€  \n		\n		\n		\n		Processing ... Paiement par CBStripe Payments nécessite que Javascript soit pris en charge par le navigateur pour fonctionner.
URL:https://www.aforpel.org/event/quand-le-corps-meurtri-dit-les-souffrances-de-lame/
ORGANIZER;CN="Aude Van Den Brule":MAILTO:aude.vdbrule@gmail.com
END:VEVENT
BEGIN:VEVENT
DTSTART;TZID=Europe/Paris:20260224T200000
DTEND;TZID=Europe/Paris:20260224T213000
DTSTAMP:20260424T191529
CREATED:20250830T090356Z
LAST-MODIFIED:20260219T151658Z
UID:5819-1771963200-1771968600@www.aforpel.org
SUMMARY:La peur de l'abandon : origines\, conséquences et traitement
DESCRIPTION:S’il n’est pas nécessaire d’être borderline pour éprouver la peur de l’abandon\, ce symptôme est quasi omniprésent chez les personnes diagnostiquées. C’est une blessure affective profonde\, souvent enracinée dans l’enfance\, qui impacte durablement l’estime de soi\, les choix relationnels et la régulation émotionnelle. \nCette visio-conférence propose de comprendre les origines de cette peur\, comment elle se manifeste au quotidien et quelles sont aujourd’hui les approches thérapeutiques qui permettent de la traiter de manière structurée et efficace. ​ \nCette visioconférence abordera \n\nLes origines : séparation ou instabilité précoces\, négligence affective\, climat insécure\, traumatismes de lien et schémas d’attachement insécures.\nLes conséquences : hypervigilance relationnelle\, dépendance affective\, jalousie\, comportements de contrôle ou de fuite\, auto-sabotage des liens.\nLes traitements les mieux adaptés : psychothérapies individuelles (thérapies des schémas\, EMDR\, thérapies interpersonnelles)\, travail sur l’estime de soi\, les croyances\, les compétences émotionnelles et relationnelles.\n\nCette rencontre s’adresse aux personnes qui se reconnaissent dans cette peur\, à leurs proches et aux professionnels souhaitant affiner leur compréhension clinique et leurs pistes d’intervention. \nL’objectif est de montrer qu’il est possible de construire un sentiment de sécurité intérieure plus solide\, d’apaiser l’angoisse d’abandon et de vivre des liens plus stables et plus libres. \nCette visioconférence sera animée par Pierre Nantas\, psychothérapeute spécialiste du trouble borderline\, président fondateur de l’AFORPEL \n	\n		\n		\n			\n		\n		\n			La peur de l'abandon\n		\n		\n		\n		\n		Pour participer à cette visioconférence effectuez votre règlement en cliquant sur le bouton ci-dessous. \n\n		\n		\n		50\,00€  \n		\n		\n		\n		Processing ... Paiement par CBStripe Payments nécessite que Javascript soit pris en charge par le navigateur pour fonctionner.
URL:https://www.aforpel.org/event/la-peur-de-labandon/
LOCATION:En visio conférence
ORGANIZER;CN="Pierre Nantas":MAILTO:pn.psycoach@gmail.com
END:VEVENT
END:VCALENDAR